BEGIN:VCALENDAR
VERSION:2.0
PRODID:-//Tukios.com/
BEGIN:VEVENT
UID:a3435bf5-d162-4952-9075-efebeb20fcce@www.coffmanfuneral.com
DTSTAMP:20260421T215234Z
DTSTART:20260424T150000Z
DTEND:20260424T160000Z
SUMMARY:Funeral Service
DESCRIPTION:
URL:https://www.coffmanfuneral.com/obituaries/etta-davis
LOCATION:Rolling Hills Church of Christ     
GEO:0;0
END:VEVENT
END:VCALENDAR