BEGIN:VCALENDAR
VERSION:2.0
PRODID:-//Tukios.com/
BEGIN:VEVENT
UID:521232eb-5f44-48ca-8799-b2abb1d6b60c@www.coffmanfuneral.com
DTSTAMP:20260421T215234Z
DTSTART:20260424T140000Z
DTEND:20260424T150000Z
SUMMARY:Visitation
DESCRIPTION:
URL:https://www.coffmanfuneral.com/obituaries/etta-davis
LOCATION:Rolling Hills Church of Christ     
GEO:0;0
END:VEVENT
END:VCALENDAR